BEGIN:VCALENDAR
VERSION:2.0
PRODID:-//Dún Laoghaire-Rathdown Public Participation Network - ECPv6.13.0//NONSGML v1.0//EN
CALSCALE:GREGORIAN
METHOD:PUBLISH
X-WR-CALNAME:Dún Laoghaire-Rathdown Public Participation Network
X-ORIGINAL-URL:https://www.dlrppn.ie
X-WR-CALDESC:Events for Dún Laoghaire-Rathdown Public Participation Network
REFRESH-INTERVAL;VALUE=DURATION:PT1H
X-Robots-Tag:noindex
X-PUBLISHED-TTL:PT1H
BEGIN:VTIMEZONE
TZID:Europe/Dublin
BEGIN:DAYLIGHT
TZOFFSETFROM:+0000
TZOFFSETTO:+0100
TZNAME:IST
DTSTART:20260329T010000
END:DAYLIGHT
BEGIN:STANDARD
TZOFFSETFROM:+0100
TZOFFSETTO:+0000
TZNAME:GMT
DTSTART:20261025T010000
END:STANDARD
END:VTIMEZONE
BEGIN:VEVENT
DTSTART;TZID=Europe/Dublin:20260420T114000
DTEND;TZID=Europe/Dublin:20260420T133000
DTSTAMP:20260420T105252
CREATED:20260401T102849Z
LAST-MODIFIED:20260416T114408Z
UID:10000170-1776685200-1776691800@www.dlrppn.ie
SUMMARY:Creating a Flyer / Poster
DESCRIPTION:Date: 20 April 2026Time: 11.40am – 1.30pm\n\nLocation: DLR venue will be confirmed when a place is offered.\n\nJoin us to learn how to make a colourful and engaging flyer / poster to promote your events and activities.. \nThe session includes plenty of time for questions. Suitable for beginners and those who wish to develop their existing skills.\n\nThis training is brought to you by the Dublin College of Further Education in partnership with DLR PPN.
URL:https://www.dlrppn.ie/event/creating-a-flyer-poster/
CATEGORIES:Training
ATTACH;FMTTYPE=image/png:https://www.dlrppn.ie/wp-content/uploads/2026/04/April-May-Workshops-5.png
END:VEVENT
END:VCALENDAR